BEGIN:VCALENDAR
VERSION:2.0
PRODID:-//Vistabona - ECPv6.15.20//NONSGML v1.0//EN
CALSCALE:GREGORIAN
METHOD:PUBLISH
X-WR-CALNAME:Vistabona
X-ORIGINAL-URL:https://www.vistabona.com
X-WR-CALDESC:Eventos para Vistabona
REFRESH-INTERVAL;VALUE=DURATION:PT1H
X-Robots-Tag:noindex
X-PUBLISHED-TTL:PT1H
BEGIN:VTIMEZONE
TZID:Europe/Helsinki
BEGIN:DAYLIGHT
TZOFFSETFROM:+0200
TZOFFSETTO:+0300
TZNAME:EEST
DTSTART:20230326T010000
END:DAYLIGHT
BEGIN:STANDARD
TZOFFSETFROM:+0300
TZOFFSETTO:+0200
TZNAME:EET
DTSTART:20231029T010000
END:STANDARD
BEGIN:DAYLIGHT
TZOFFSETFROM:+0200
TZOFFSETTO:+0300
TZNAME:EEST
DTSTART:20240331T010000
END:DAYLIGHT
BEGIN:STANDARD
TZOFFSETFROM:+0300
TZOFFSETTO:+0200
TZNAME:EET
DTSTART:20241027T010000
END:STANDARD
BEGIN:DAYLIGHT
TZOFFSETFROM:+0200
TZOFFSETTO:+0300
TZNAME:EEST
DTSTART:20250330T010000
END:DAYLIGHT
BEGIN:STANDARD
TZOFFSETFROM:+0300
TZOFFSETTO:+0200
TZNAME:EET
DTSTART:20251026T010000
END:STANDARD
END:VTIMEZONE
BEGIN:VEVENT
DTSTART;VALUE=DATE:20241108
DTEND;VALUE=DATE:20241111
DTSTAMP:20260420T111017
CREATED:20240920T163451Z
LAST-MODIFIED:20240920T163451Z
UID:5020-1731024000-1731283199@www.vistabona.com
SUMMARY:Estaremos en el Magic 2024 del 8 al 10 de Noviembre
DESCRIPTION:Este año\, estaremos en el espacio del Port Vell exponiendo nuestros productos y como novedad haremos una tirada astrológica
URL:https://www.vistabona.com/evento/estaremos-en-el-magic-2024-del-8-al-10-de-noviembre/
CATEGORIES:ferias-alternativas
END:VEVENT
BEGIN:VEVENT
DTSTART;VALUE=DATE:20241121
DTEND;VALUE=DATE:20241125
DTSTAMP:20260420T111017
CREATED:20240920T161721Z
LAST-MODIFIED:20240920T161721Z
UID:5016-1732147200-1732492799@www.vistabona.com
SUMMARY:Estaremos en Biocultura de Madrid 2024 del 21 al 24 de Noviembre
DESCRIPTION:Estaremos exponiendo nuestros productos en el stand 777 y haremos la conferencia «Visión Natural en el campo emocional»
URL:https://www.vistabona.com/evento/estaremos-en-biocultura-de-madrid-2024-del-21-al-24-de-noviembre/
CATEGORIES:ferias-alternativas
END:VEVENT
END:VCALENDAR